BEGIN:VCALENDAR
METHOD:PUBLISH
PRODID:Data::ICal 0.13
VERSION:2.0
BEGIN:VEVENT
DESCRIPTION:[caption id=&quot;attachment_2017990&quot; align=&quot;aligncenter&quot; width=&quot;800&quot;] Source: ione / iOne[/caption]
DTSTAMP:20260420T214019Z
DTSTART;TZID=America/New_York:20150725T120000
DTEND;TZID=America/New_York:20150725T200000
LOCATION:3001 East Drive\, Baltimore\, MD\, 21217
SUMMARY:One Baltimore Unity in the Community FREE Concert
UID:3896601-1437825600-1437854400
END:VEVENT
END:VCALENDAR
