BEGIN:VCALENDAR
METHOD:PUBLISH
PRODID:Data::ICal 0.13
VERSION:2.0
BEGIN:VEVENT
DESCRIPTION:Boosie returns to Baltimore this summer with special guest Shy Glizzy!\n\nGet tickets HERE 
DTSTAMP:20260423T183526Z
DTSTART;TZID=America/New_York:20160806T080000
DTEND;TZID=America/New_York:20160806T230000
LOCATION:201 W Baltimore Street\, Baltimore\, MD\, 21201
SUMMARY:One Bad Azz Summer feat.  Boosie
UID:3915939-1470470400-1470524400
END:VEVENT
END:VCALENDAR
