BEGIN:VCALENDAR
METHOD:PUBLISH
PRODID:Data::ICal 0.13
VERSION:2.0
BEGIN:VEVENT
DESCRIPTION:Join the entire Rickey Smiley Morning Show for their Annual Magic City Classic Broadcast going down Friday, October 28th at the BJCC Concert Hall!  Guest appearances by Dae Dae, YFN Lucci, The Little Women Of Atlanta and Love &amp; Hip Hop&#8217;s own Mama Dee!  Get there early to reserve your seats!  Doors open at 4:00am, Show starts at 5:00am!  Prizes and ticket giveaways to early birds.\n\n
&nbsp;\n\n
&nbsp;
DTSTAMP:20260421T143338Z
DTSTART;TZID=America/New_York:19700101T000000
DTEND;TZID=America/New_York:19700101T000000
LOCATION:
SUMMARY:Magic City Classic Live Broadcast Birmingham, AL
UID:3945011--
END:VEVENT
END:VCALENDAR
