BEGIN:VCALENDAR
METHOD:PUBLISH
PRODID:Data::ICal 0.13
VERSION:2.0
BEGIN:VEVENT
DESCRIPTION:Source: Live Nation / Courtesy of Live Nation
DTSTAMP:20260423T155906Z
DTSTART;TZID=America/New_York:20250404T190000
DTEND;TZID=America/New_York:20260404T233000
LOCATION:201 WEST BALTIMORE STREET\, BALTIMORE\, MD\, 21201 
SUMMARY:Little Miss Drama Tour
UID:5792935-1743793200-1775345400
END:VEVENT
END:VCALENDAR
