BEGIN:VCALENDAR
METHOD:PUBLISH
PRODID:Data::ICal 0.13
VERSION:2.0
BEGIN:VEVENT
DESCRIPTION:HEY, BIRDLAND! 🧡⚾️ 



Pull up this Friday, April 24 for HBCU &amp; Divine Nine Night at Oriole Park at Camden Yards! 



Celebrate the legacy, culture, and pride of HBCUs and the Divine Nine with a night you don’t want to miss: 



🎶 Live pregame music 



🥁 Performances from local HBCU bands &amp; step teams 



Exclusive photo ops for all Divine Nine fraternities &amp; sororities 



🍹 Specialty drinks &amp; early stadium vibes 



Rep your school. Rep your letters. Bring the energy to the Yard. 



🎟️ Get your tickets now: Orioles.com/tickets
DTSTAMP:20260424T155147Z
DTSTART;TZID=America/New_York:20260424T160509
DTEND;TZID=America/New_York:20260424T200500
LOCATION:
SUMMARY:HBCU &amp; Divine Nine At Oriole Park
UID:5900621-1777046709-1777061100
END:VEVENT
END:VCALENDAR
