BEGIN:VCALENDAR
METHOD:PUBLISH
PRODID:Data::ICal 0.13
VERSION:2.0
BEGIN:VEVENT
DESCRIPTION:
DTSTAMP:20260419T194229Z
DTSTART;TZID=America/New_York:20150228T123800
DTEND;TZID=America/New_York:20150228T200000
LOCATION:830 E Pratt St\, Baltimore\, MD\, 21202
SUMMARY:Black History Month Open House sponsored by Verizon
UID:3896577-1425127080-1425153600
END:VEVENT
END:VCALENDAR
